Workbook

Sheet Pre Form
B3: fookg LFky dk irk | C3: 465 vkjMh | D3: fookg dh fnukad | E3: 25 tqu 2019
B4: fjrh fjokt | C4: fgUnq jhfr fjokt
B6: oj dk fooj.k
B7: oj dk uke | C7: jktsUnz izlkn | D7: oj ds xokg dk uke | E7: fouksn dqekj
B8: oj ds firk dk uke | C8: /kuirjke | D8: xokg ds firk dk uke | E8: d`".k yky
B9: oj dh ekrk dk uke | C9: xkserh nsoh | D9: xokg dk irk | E9: v;kydh
B10: oj ds nknk dk uke | C10: yk/kqjke | D10: xokg dh tkfr | E10: dqEgkj
B11: oj dk iqjk irk | C11: v;kydh | D11: rglhy | E11: ihyhcxka
B12: oj dh tkfr | C12: dqEgkj | D12: ftyk | E12: guqekux<
B13: oj dk /keZ | C13: fgUnw | D13: jkT; | E13: jktLFkku
B15: o/kw dk fooj.k
B16: o/kw dk uke | C16: fiz;adk iztkir | D16: o/kw ds xokg dk uke | E16: jktks nsoh
B17: o/kw dh ekrk dk uke | C17: lhek nsoh | D17: xokg ds firk dk uke | E17: egsUnz dqekj
B18: o/kw ds firk dk uke | C18: gtkjh jke | D18: xokg dk irk | E18: 465 vkjMh
B19: o/kw ds nknk dk uke | D19: xokg dh tkfr | E19: dqEgkj
B20: o/kw dk iqjk irk | C20: 465 vkjMh | D20: rglhy | E20: iqxy
B21: o/kw dh tkfr | C21: dqEgkj | D21: ftyk | E21: chdkusj
B22: o/kw dk /keZ | C22: fgUnw | D22: jkT; | E22: jktLFkku
B24: iafMr @ ikBh dk fooj.k
B25: uke | C25: cuokjh yky | D25: rglhy | E25: ihyhcxak
B26: firk dk uke | C26: cnzh izlkn | D26: ftyk | E26: guqekux<
B27: tkfr | C27: czkgzk.k | D27: jkT; | E27: jktLFkku
B28: lkfdu | C28: v;kydh

Sheet Main Form
Z1: yMds dk 'kiFk i= | AI1: yMdh dk 'kiFk i= | AR1: yMds dk xokg | BA1: yMdh dk xokg | BJ1: iafMr dk 'kiFk i= | BT1: yMdh dk firk | CC1: yMds dk firk | CL1: yMds dh ekrk | CU1: yMdh dh ekrk
K2: dk;kZy; | N2: rglhy | Q2: ftyk
B3: izkFkZuk i= | N3: izi= &1 | T3: euds | U3: ='Pre Form'!C7 -> jktsUnz izlkn | W3: iq= Jh | X3: ='Pre Form'!C8 -> /kuirjke | Z3: tkfr | AA3: ='Pre Form'!C12 -> dqEgkj | AL3: euds | AM3: ='Pre Form'!E7 -> fouksn dqekj | AO3: iq= Jh | AP3: ='Pre Form'!E8 -> d`".k yky | AR3: tkfr | AS3: ='Pre Form'!E10 -> dqEgkj | AU3: euds | AV3: ='Pre Form'!E16 -> jktks nsoh | AX3: iq= Jh | AY3: ='Pre Form'!E17 -> egsUnz dqekj | BA3: tkfr | BB3: ='Pre Form'!E19 -> dqEgkj | BD3: euds | BE3: ='Pre Form'!C25 -> cuokjh yky | BG3: iq= Jh | BH3: ='Pre Form'!C26 -> cnzh izlkn | BJ3: tkfr | BK3: ='Pre Form'!C27 -> czkgzk.k | BM3: euds | BN3: ='Pre Form'!C18 -> gtkjh jke | BP3: iq= Jh | BQ3: ='Pre Form'!C19 -> 0 | BS3: tkfr | BT3: ='Pre Form'!C21 -> dqEgkj | BV3: euds | BW3: ='Pre Form'!C8 -> /kuirjke | BY3: iq= Jh | BZ3: ='Pre Form'!C10 -> yk/kqjke | CB3: tkfr | CC3: ='Pre Form'!C12 -> dqEgkj | CE3: euds | CF3: ='Pre Form'!C9 -> xkserh nsoh | CH3: ifRu Jh | CI3: ='Pre Form'!C8 -> /kuirjke | CK3: tkfr | CL3: ='Pre Form'!C12 -> dqEgkj | CN3: euds | CO3: ='Pre Form'!C17 -> lhek nsoh | CQ3: ifRu Jh | CR3: ='Pre Form'!C18 -> gtkjh jke | CT3: tkfr | CU3: ='Pre Form'!C21 -> dqEgkj
J4: fookg iath;u gsrq vkosnu i= | T4: fuoklh | U4: ='Pre Form'!C11 -> v;kydh | W4: rglhy | X4: ='Pre Form'!E11 -> ihyhcxka | Z4: ftyk | AA4: ='Pre Form'!E12 -> guqekux< | AC4: euds | AD4: ='Pre Form'!C16 -> fiz;adk iztkir | AF4: iq=h Jh | AG4: ='Pre Form'!C18 -> gtkjh jke | AI4: tkfr | AJ4: ='Pre Form'!C21 -> dqEgkj | AL4: fuoklh | AM4: ='Pre Form'!E9 -> v;kydh | AO4: rglhy | AP4: ='Pre Form'!E11 -> ihyhcxka | AR4: ftyk | AS4: ='Pre Form'!E12 -> guqekux< | AU4: fuoklh | AV4: ='Pre Form'!E18 -> 465 vkjMh | AX4: rglhy | AY4: ='Pre Form'!E20 -> iqxy | BA4: ftyk | BB4: ='Pre Form'!E21 -> chdkusj | BD4: fuoklh | BE4: ='Pre Form'!C28 -> v;kydh | BG4: rglhy | BH4: ='Pre Form'!E25 -> ihyhcxak | BJ4: ftyk | BK4: ='Pre Form'!E26 -> guqekux< | BM4: fuoklh | BN4: ='Pre Form'!C20 -> 465 vkjMh | BP4: rglhy | BQ4: ='Pre Form'!E20 -> iqxy | BS4: ftyk | BT4: ='Pre Form'!E21 -> chdkusj | BV4: fuoklh | BW4: ='Pre Form'!C11 -> v;kydh | BY4: rglhy | BZ4: ='Pre Form'!E11 -> ihyhcxka | CB4: ftyk | CC4: ='Pre Form'!E12 -> guqekux< | CE4: fuoklh | CF4: ='Pre Form'!C11 -> v;kydh | CH4: rglhy | CI4: ='Pre Form'!E11 -> ihyhcxka | CK4: ftyk | CL4: ='Pre Form'!E12 -> guqekux< | CN4: fuoklh | CO4: ='Pre Form'!C20 -> 465 vkjMh | CQ4: rglhy | CR4: ='Pre Form'!E20 -> iqxy | CT4: ftyk | CU4: ='Pre Form'!E21 -> chdkusj
B5: lsok esa | K5: lsok esa | T5: jkT; | U5: ='Pre Form'!E13 -> jktLFkku | W5: dk gqaq ! eSa 'kiFk iwoZd C;ku djrk gaq fd & | AC5: fuoklh | AD5: ='Pre Form'!C20 -> 465 vkjMh | AF5: rglhy | AG5: ='Pre Form'!E20 -> iqxy | AI5: ftyk | AJ5: ='Pre Form'!E21 -> chdkusj | AL5: jkT; | AM5: ='Pre Form'!E13 -> jktLFkku | AO5: dk gqaq ! eSa 'kiFk iwoZd C;ku djrk gaq fd & | AU5: jkT; | AV5: ='Pre Form'!E22 -> jktLFkku | AX5: dk gqaq ! eSa 'kiFk iwoZd C;ku djrk gaq fd & | BD5: jkT; | BE5: ='Pre Form'!E27 -> jktLFkku | BG5: dk gqaq ! eSa 'kiFk iwoZd C;ku djrk gaq fd & | BM5: jkT; | BN5: ='Pre Form'!E22 -> jktLFkku | BP5: dk gqaq ! eSa 'kiFk iwoZd C;ku djrk gaq fd & | BV5: jkT; | BW5: ='Pre Form'!E13 -> jktLFkku | BY5: dk gqaq ! eSa 'kiFk iwoZd C;ku djrk gaq fd & | CE5: jkT; | CF5: ='Pre Form'!E12 -> guqekux< | CH5: dh gqaq ! eSa 'kiFk iwoZd C;ku djrh gaq fd & | CN5: jkT; | CO5: ='Pre Form'!E22 -> jktLFkku | CQ5: dh gqaq ! eSa 'kiFk iwoZd C;ku djrh gaq fd &
C6: Jheku fookg iath;u vf/kdkjh | L6: Jheku fookg iath;u vf/kdkjh | AC6: jkT; | AD6: ='Pre Form'!E22 -> jktLFkku | AF6: dh gqaq ! eSa 'kiFk iwoZd C;ku djrh gaq fd &
C7: xzke iapk;r v;kydh | L7: xzke iapk;r v;kydh | T7: 1- ;g gS fd fedj vius ifjokj lfgr mDr irs ij LFkk;h :i ls fuokl djrk gS ! | AL7: 1- ;g gS fd fedj vius ifjokj lfgr mDr irs ij LFkk;h :i ls fuokl djrk gS ! | AU7: 1- ;g gS fd fedj vius ifjokj lfgr mDr irs ij LFkk;h :i ls fuokl djrk gS ! | BD7: 1- ;g gS fd fedj vius ifjokj lfgr mDr irs ij LFkk;h :i ls fuokl djrk gS ! | BM7: 1- ;g gS fd fedj vius ifjokj lfgr mDr irs ij LFkk;h :i ls fuokl djrk gS ! | BV7: 1- ;g gS fd fedj vius ifjokj lfgr mDr irs ij LFkk;h :i ls fuokl djrk gS ! | CE7: 1- ;g gS fd fedjk vius ifjokj lfgr mDr irs ij LFkk;h :i ls fuokl djrh gS ! | CN7: 1- ;g gS fd fedjk vius ifjokj lfgr mDr irs ij LFkk;h :i ls fuokl djrh gS !
K8: egksn; | T8: 2- ;g gS fd eq> fedj dk fookg | W8: ='Pre Form'!C16 -> fiz;adk iztkir | Y8: iq=h Jh | Z8: ='Pre Form'!C18 -> gtkjh jke | AB8: tkfr | AC8: 1- ;g gS fd fedjk vius ifjokj lfgr mDr irs ij LFkk;h :i ls fuokl djrh Fkh ! | AL8: 2- ;g gS fd | AO8: ='Pre Form'!C7 -> jktsUnz izlkn | AQ8: iq= Jh | AR8: ='Pre Form'!C8 -> /kuirjke | AT8: tkfr | AU8: 2- ;g gS fd | AX8: ='Pre Form'!C16 -> fiz;adk iztkir | AZ8: iq=h Jh | BA8: ='Pre Form'!C18 -> gtkjh jke | BC8: tkfr | BD8: 2- ;g gS fd | BE8: eq> fedj )kjk | BG8: ='Pre Form'!C7 -> jktsUnz izlkn | BI8: iq= Jh | BJ8: ='Pre Form'!C8 -> /kuirjke | BL8: tkfr | BM8: 2- ;g gS fd eq> fedj dh iq=h | BP8: ='Pre Form'!C16 -> fiz;adk iztkir | BR8: dk fookg | BS8: ='Pre Form'!C7 -> jktsUnz izlkn | BU8: iq= Jh | BV8: 2- ;g gS fd eq> fedj ds iq= | BY8: ='Pre Form'!C7 -> jktsUnz izlkn | CA8: dk fookg | CB8: ='Pre Form'!C16 -> fiz;adk iztkir | CD8: iq=h Jh | CE8: 2- ;g gS fd eq> fedjk ds iq= | CH8: ='Pre Form'!C7 -> jktsUnz izlkn | CJ8: dk fookg | CK8: ='Pre Form'!C16 -> fiz;adk iztkir | CM8: iq=h Jh | CN8: 2- ;g gS fd eq> fedjk dh iq=h | CQ8: ='Pre Form'!C16 -> fiz;adk iztkir | CS8: dk fookg | CT8: ='Pre Form'!C7 -> jktsUnz izlkn | CV8: iq= Jh
B9: fo"k; %& 'kknh izek.k i= cukus ckcr A | L9: Jhefr@Jh | M9: ='Pre Form'!C7 -> jktsUnz izlkn | O9: iq=h@iq= | P9: ='Pre Form'!C8 -> /kuirjke | R9: tkfr | S9: ='Pre Form'!C12 -> dqEgkj | T9: ='Pre Form'!C21 -> dqEgkj | V9: lkfdu | W9: ='Pre Form'!C20 -> 465 vkjMh | X9: rglhy | Y9: ='Pre Form'!E20 -> iqxy | AA9: ftyk | AC9: 2- ;g gS fd eq> fedjk dk fookg | AF9: ='Pre Form'!C7 -> jktsUnz izlkn | AH9: iq= Jh | AI9: ='Pre Form'!C8 -> /kuirjke | AK9: tkfr | AL9: ='Pre Form'!C12 -> dqEgkj | AN9: lkfdu | AO9: ='Pre Form'!C11 -> v;kydh | AP9: rglhy | AQ9: ='Pre Form'!E11 -> ihyhcxka | AS9: ftyk | AU9: ='Pre Form'!C21 -> dqEgkj | AW9: lkfdu | AX9: ='Pre Form'!C20 -> 465 vkjMh | AY9: rglhy | AZ9: ='Pre Form'!E20 -> iqxy | BB9: ftyk | BD9: ='Pre Form'!C12 -> dqEgkj | BF9: lkfdu | BG9: ='Pre Form'!C11 -> v;kydh | BH9: rglhy | BI9: ='Pre Form'!E11 -> ihyhcxka | BK9: ftyk | BM9: ='Pre Form'!C8 -> /kuirjke | BO9: tkfr | BP9: ='Pre Form'!C12 -> dqEgkj | BQ9: lkfdu | BR9: ='Pre Form'!C11 -> v;kydh | BT9: rglhy | BU9: ='Pre Form'!E11 -> ihyhcxka | BV9: ='Pre Form'!C18 -> gtkjh jke | BX9: tkfr | BY9: ='Pre Form'!C21 -> dqEgkj | BZ9: lkfdu | CA9: ='Pre Form'!C20 -> 465 vkjMh | CC9: rglhy | CD9: ='Pre Form'!E20 -> iqxy | CE9: ='Pre Form'!C18 -> gtkjh jke | CG9: tkfr | CH9: ='Pre Form'!C21 -> dqEgkj | CI9: lkfdu | CJ9: ='Pre Form'!C20 -> 465 vkjMh | CL9: rglhy | CM9: ='Pre Form'!E20 -> iqxy | CN9: ='Pre Form'!C8 -> /kuirjke | CP9: tkfr | CQ9: ='Pre Form'!C12 -> dqEgkj | CR9: lkfdu | CS9: ='Pre Form'!C11 -> v;kydh | CU9: rglhy | CV9: ='Pre Form'!E11 -> ihyhcxka
K10: lkfdu | L10: ='Pre Form'!C11 -> v;kydh | N10: rglhy | O10: ='Pre Form'!E11 -> ihyhcxka | P10: ftyk | Q10: ='Pre Form'!E12 -> guqekux< | S10: jkT; | T10: ='Pre Form'!E21 -> chdkusj | U10: jkT; | V10: ='Pre Form'!E22 -> jktLFkku | X10: ds lkFk fnukad | Y10: ='Pre Form'!E3 -> 25 tqu 2019 | AA10: dks ceqdke | AC10: ='Pre Form'!C12 -> dqEgkj | AE10: lkfdu | AF10: ='Pre Form'!C11 -> v;kydh | AG10: rglhy | AH10: ='Pre Form'!E11 -> ihyhcxka | AJ10: ftyk | AL10: ='Pre Form'!E12 -> guqekux< | AM10: jkT; | AN10: ='Pre Form'!E13 -> jktLFkku | AO10: dk fookg | AQ10: ='Pre Form'!C16 -> fiz;adk iztkir | AR10: iq=h Jh | AS10: ='Pre Form'!C18 -> gtkjh jke | AU10: ='Pre Form'!E21 -> chdkusj | AV10: jkT; | AW10: ='Pre Form'!E22 -> jktLFkku | AX10: dk fookg | AZ10: ='Pre Form'!C7 -> jktsUnz izlkn | BA10: iq= Jh | BB10: ='Pre Form'!C8 -> /kuirjke | BD10: ='Pre Form'!E12 -> guqekux< | BE10: jkT; | BF10: ='Pre Form'!E13 -> jktLFkku | BG10: dk fookg | BI10: ='Pre Form'!C16 -> fiz;adk iztkir | BJ10: iq=h Jh | BK10: ='Pre Form'!C18 -> gtkjh jke | BN10: ftrk | BO10: ='Pre Form'!E12 -> guqekux< | BQ10: jkT; | BR10: ='Pre Form'!E13 -> jktLFkku | BS10: ds lkFk fnukad | BU10: ='Pre Form'!E3 -> 25 tqu 2019 | BW10: ftrk | BX10: ='Pre Form'!E21 -> chdkusj | BZ10: jkT; | CA10: ='Pre Form'!E22 -> jktLFkku | CB10: ds lkFk fnukad | CD10: ='Pre Form'!E3 -> 25 tqu 2019 | CF10: ftrk | CG10: ='Pre Form'!E21 -> chdkusj | CI10: jkT; | CJ10: ='Pre Form'!E22 -> jktLFkku | CK10: ds lkFk fnukad | CM10: ='Pre Form'!E3 -> 25 tqu 2019 | CO10: ftyk | CP10: ='Pre Form'!E12 -> guqekux< | CR10: jkT; | CS10: ='Pre Form'!E13 -> jktLFkku | CT10: ds lkFk fnukad | CV10: ='Pre Form'!E3 -> 25 tqu 2019
B11: Jheku th | K11: ='Pre Form'!E13 -> jktLFkku | M11: dk fookg fnukad | O11: ='Pre Form'!E3 -> 25 tqu 2019 | P11: dks Jh@Jhefr | R11: ='Pre Form'!C16 -> fiz;adk iztkir | S11: iq=@iq=h | T11: ='Pre Form'!C3 -> 465 vkjMh | V11: esa eqrkfcd | W11: ='Pre Form'!C4 -> fgUnq jhfr fjokt | Z11: ls djokdj lEiUu gqvk Fkk A | AC11: ='Pre Form'!E12 -> guqekux< | AD11: jkT; | AE11: ='Pre Form'!E13 -> jktLFkku | AG11: ds lkFk fnukad | AH11: ='Pre Form'!E3 -> 25 tqu 2019 | AJ11: dks ceqdke | AL11: tkfr | AM11: ='Pre Form'!C21 -> dqEgkj | AN11: fuoklh | AO11: ='Pre Form'!C20 -> 465 vkjMh | AQ11: rglhy | AR11: ='Pre Form'!E20 -> iqxy | AT11: ftyk | AU11: tkfr | AV11: ='Pre Form'!C12 -> dqEgkj | AW11: fuoklh | AX11: ='Pre Form'!C11 -> v;kydh | AZ11: rglhy | BA11: ='Pre Form'!E11 -> ihyhcxka | BC11: ftyk | BD11: tkfr | BE11: ='Pre Form'!C21 -> dqEgkj | BF11: fuoklh | BG11: ='Pre Form'!C20 -> 465 vkjMh | BI11: rglhy | BJ11: ='Pre Form'!E20 -> iqxy | BL11: ftyk | BM11: dks ceqdke | BN11: ='Pre Form'!C3 -> 465 vkjMh | BP11: esa eqrkfcd | BR11: ='Pre Form'!C4 -> fgUnq jhfr fjokt | BU11: ls djokdj | BV11: dks ceqdke | BW11: ='Pre Form'!C3 -> 465 vkjMh | BY11: esa eqrkfcd | CA11: ='Pre Form'!C4 -> fgUnq jhfr fjokt | CD11: ls djokdj | CE11: dks ceqdke | CF11: ='Pre Form'!C3 -> 465 vkjMh | CH11: esa eqrkfcd | CJ11: ='Pre Form'!C4 -> fgUnq jhfr fjokt | CM11: ls djokdj | CN11: dks ceqdke | CO11: ='Pre Form'!C3 -> 465 vkjMh | CQ11: esa eqrkfcd | CS11: ='Pre Form'!C4 -> fgUnq jhfr fjokt | CV11: ls djokdj
C12: mijksDr fo";kUrxZr fuosnu gS fd izkFkhZ;k@izkFkhZ | G12: ='Pre Form'!C7 -> jktsUnz izlkn | H12: dk fookg | K12: ='Pre Form'!C18 -> gtkjh jke | M12: tkfr | N12: ='Pre Form'!C21 -> dqEgkj | O12: lkfdu | P12: ='Pre Form'!C20 -> 465 vkjMh | R12: rglhy | S12: ='Pre Form'!E20 -> iqxy | T12: fookg ds le; ge nksuks ckfyx Fks ] fookgksijkUr ge nksuks crkSj ifr &ifRu | AA12: ='Pre Form'!C11 -> v;kydh | AC12: ='Pre Form'!C3 -> 465 vkjMh | AE12: esa eqrkfcd | AG12: ='Pre Form'!C4 -> fgUnq jhfr fjokt | AI12: ls djokdj lEiUu gqvk Fkk A | AL12: ='Pre Form'!E21 -> chdkusj | AN12: jkT; | AO12: ='Pre Form'!E22 -> jktLFkku | AQ12: ds lkFk fnukad | AR12: ='Pre Form'!E3 -> 25 tqu 2019 | AT12: dks ceqdke | AU12: ='Pre Form'!E12 -> guqekux< | AW12: jkT; | AX12: ='Pre Form'!E13 -> jktLFkku | AZ12: ds lkFk fnukad | BA12: ='Pre Form'!E3 -> 25 tqu 2019 | BC12: dks ceqdke | BD12: ='Pre Form'!E21 -> chdkusj | BF12: jkT; | BG12: ='Pre Form'!E22 -> jktLFkku | BI12: ds lkFk fnukad | BJ12: ='Pre Form'!E3 -> 25 tqu 2019 | BL12: dks ceqdke | BM12: lEiUu gqvk Fkk mDr 'kknh esa eSa mifLFkr Fkk A | BV12: lEiUu gqvk Fkk mDr 'kknh esa eSa mifLFkr Fkk A | CE12: lEiUu gqbZ Fkh mDr 'kknh esa eSa mifLFkr Fkh A | CN12: lEiUu gqbZ Fkh mDr 'kknh esa eSa mifLFkr Fkh A
B13: ='Pre Form'!E3 -> 25 tqu 2019 | C13: dks | D13: ='Pre Form'!C16 -> fiz;adk iztkir | E13: iq=h@iq= | F13: ='Pre Form'!C18 -> gtkjh jke | G13: tkfr | H13: ='Pre Form'!C21 -> dqEgkj | K13: ftyk | L13: ='Pre Form'!E21 -> chdkusj | N13: jkT; | O13: ='Pre Form'!E22 -> jktLFkku | Q13: ds lkFk uhps of.kZr fookg LFky ij | V13: esa fuokl dj jgsa gS A | AC13: fookg ds le; ge nksuks ckfyx Fks ] fookgksijkUr ge nksuks crkSj ifr &ifRu | AJ13: ='Pre Form'!C11 -> v;kydh | AL13: ='Pre Form'!C3 -> 465 vkjMh | AN13: esa eqrkfcd | AO13: ='Pre Form'!C4 -> fgUnq jhfr fjokt | AQ13: djokdj lEiUu gqvk Fkk A mDr 'kknh esa eSa mifLFkr Fkk A | AU13: ='Pre Form'!C3 -> 465 vkjMh | AW13: esa eqrkfcd | AX13: ='Pre Form'!C4 -> fgUnq jhfr fjokt | AZ13: djokdj lEiUu gqvk Fkk A mDr 'kknh esa eSa mifLFkr Fkk A | BD13: ='Pre Form'!C3 -> 465 vkjMh | BF13: esa eqrkfcd | BG13: ='Pre Form'!C4 -> fgUnq jhfr fjokt | BK13: lkr Qsjs djokdj @ | BM13: fookg ds le; nksuks ckfyx Fks ] fookgksijkUr nksuks crkSj ifr &ifRu | BS13: ='Pre Form'!C11 -> v;kydh | BV13: fookg ds le; nksuks ckfyx Fks ] fookgksijkUr nksuks crkSj ifr &ifRu | CB13: ='Pre Form'!C11 -> v;kydh | CE13: fookg ds le; nksuks ckfyx Fks ] fookgksijkUr nksuks crkSj ifr &ifRu | CK13: ='Pre Form'!C11 -> v;kydh | CN13: fookg ds le; nksuks ckfyx Fks ] fookgksijkUr nksuks crkSj ifr &ifRu | CT13: ='Pre Form'!C11 -> v;kydh
B14: lkfdu | C14: ='Pre Form'!C20 -> 465 vkjMh | D14: rglhy | E14: ='Pre Form'!E20 -> iqxy | F14: ftyk | G14: ='Pre Form'!E21 -> chdkusj | H14: jkT; | K14: lEiUu gqvk Fkk A | T14: 3- ;g gS fd mDr 'kiFk i= dh en la- 1 o 2 esa of.kZr vius futh Kku o fo'okl ls lgh o lR; fy[kok;s gS A | AE14: esa fuokl dj jgsa gS A | AL14: fookg ds le; nksuks ckfyx Fks ] fookgksijkUr nksuks crkSj ifr &ifRu | AS14: ='Pre Form'!C11 -> v;kydh | AU14: fookg ds le; nksuks ckfyx Fks ] fookgksijkUr nksuks crkSj ifr &ifRu | BB14: ='Pre Form'!C11 -> v;kydh | BD14: vkuUn dkjt djokdj lEiUu fd;k Fkk A | BO14: esa fuokl dj jgsa gS A | BX14: esa fuokl dj jgsa gS A | CG14: esa fuokl dj jgsa gS A | CP14: esa fuokl dj jgsa gS A
B15: ='Pre Form'!E22 -> jktLFkku | C15: ds lkFk eqrkfcd | E15: ='Pre Form'!C4 -> fgUnq jhfr fjokt | H15: ls | K15: fookg LFky dk irk %+& ceqdke | O15: ='Pre Form'!C3 -> 465 vkjMh | T15: dksbZ rF; c<k;k ] ?kVk;k ] o Nqik;k ugha gS A bZ'oj esjh enn djs A | AC15: 3- ;g gS fd mDr 'kiFk i= dh en la- 1 o 2 esa of.kZr vius futh Kku o fo'okl ls lgh o lR; fy[kok;s gS A | AN15: esa fuokl dj jgsa gS A | AW15: esa fuokl dj jgsa gS A | BD15: fookg ds le; nksuks ckfyx Fks ] fookgksijkUr nksuks crkSj ifr &ifRu | BJ15: ='Pre Form'!C11 -> v;kydh | BM15: 3- ;g gS fd mDr 'kiFk i= dh en la- 1 o 2 esa of.kZr vius futh Kku o fo'okl ls lgh o lR; fy[kok;s gS A | BV15: 3- ;g gS fd mDr 'kiFk i= dh en la- 1 o 2 esa of.kZr vius futh Kku o fo'okl ls lgh o lR; fy[kok;s gS A | CE15: 3- ;g gS fd mDr 'kiFk i= dh en la- 1 o 2 esa of.kZr vius futh Kku o fo'okl ls lgh o lR; fy[kok;s gS A | CN15: 3- ;g gS fd mDr 'kiFk i= dh en la- 1 o 2 esa of.kZr vius futh Kku o fo'okl ls lgh o lR; fy[kok;s gS A
B16: djokdj lEiUu gqvk Fkk vkSj 'kknh ds ckn vc rd fookg iath;u izek.k i= ugha cuok;k | K16: fookg dk iathdj.k ugha djk;k tk ldk Fkk @ vkosnd fo/kok gS @ vkosnd dks fookg izek.k & i= | AC16: dksbZ rF; c<k;k ] ?kVk;k ] o Nqik;k ugha gS A bZ'oj esjh enn djs A | AL16: 3- ;g gS fd mDr 'kiFk i= dh en la- 1 o 2 esa of.kZr vius futh Kku o fo'okl ls lgh o lR; fy[kok;s gS A | AU16: 3- ;g gS fd mDr 'kiFk i= dh en la- 1 o 2 esa of.kZr vius futh Kku o fo'okl ls lgh o lR; fy[kok;s gS A | BF16: esa fuokl dj jgsa gS A | BM16: dksbZ rF; c<k;k ] ?kVk;k ] o Nqik;k ugha gS A bZ'oj esjh enn djs A | BV16: dksbZ rF; c<k;k ] ?kVk;k ] o Nqik;k ugha gS A bZ'oj esjh enn djs A | CE16: dksbZ rF; c<k;k ] ?kVk;k ] o Nqik;k ugha gS A bZ'oj esjh enn djs A | CN16: dksbZ rF; c<k;k ] ?kVk;k ] o Nqik;k ugha gS A bZ'oj esjh enn djs A
B17: gS A vc eSa izkFkhZ fookg iath;u izek.k i= cuokuk pkgrk gwaA | K17: dh vko';Drk gS A | AL17: dksbZ rF; c<k;k ] ?kVk;k ] o Nqik;k ugha gS A bZ'oj esjh enn djs A | AU17: dksbZ rF; c<k;k ] ?kVk;k ] o Nqik;k ugha gS A bZ'oj esjh enn djs A | BD17: 3- ;g gS fd mDr 'kiFk i= dh en la- 1 o 2 esa of.kZr vius futh Kku o fo'okl ls lgh o lR; fy[kok;s gS A
C18: vr% izkFkZuk i= iS'k dj fuosnu gS fd izkFkhZ dk 'kknh izek.k i= tkjh fd;k | K18: ifr o ifRu ds QksVksxzkQ uhps pLik gS % & | BD18: dksbZ rF; c<k;k ] ?kVk;k ] o Nqik;k ugha gS A bZ'oj esjh enn djs A
B19: tkos A Jheku th fd vfr d`ik gksxh A | L19: ifr Jh | P19: ifRu Jhefr | T19: fnukad | Z19: fedj | BM19: fnukad | BS19: fedj | BV19: fnukad | CB19: fedj | CE19: fnukad | CK19: fedjk | CN19: fnukad | CT19: fedjk
AC20: fnukad | AI20: fedj
AL21: fnukad | AR21: fedj | AU21: fnukad | BA21: fedj | BD21: fnukad | BJ21: fedj
G24: izkFkhZ;k @ izkFkhZ | K24: izFke xokg % & | P24: fnrh; xokg %&
G25: ='Pre Form'!C7 -> jktsUnz izlkn | K25: gLrk{kj | P25: gLrk{kj
K26: uke %& | L26: ='Pre Form'!E7 -> fouksn dqekj | P26: uke %& | Q26: ='Pre Form'!E16 -> jktks nsoh
K27: irk %& | L27: ='Pre Form'!E9 -> v;kydh | P27: irk %& | Q27: ='Pre Form'!E18 -> 465 vkjMh
K28: d`I;k Qhl isVs #i; --------- tek djkdj ,oa fookg iath;u dj fookg iath;u izek.k i= tkjh djkus dk
K29: d"V djk;sa A
